BEGIN:VCALENDAR
VERSION:2.0
PRODID:-//Tukios.com/
BEGIN:VEVENT
UID:9172c5e3-5ca0-4aac-bf3e-27d8b954ca0b@www.ranfranzandvinefh.com
DTSTAMP:20260422T203111Z
DTSTART:20260429T193000Z
DTEND:20260429T223000Z
SUMMARY:Celebration of Life
DESCRIPTION:
URL:https://www.ranfranzandvinefh.com/obituaries/darlene-riess
LOCATION:Ranfranz & Vine Remembrance & Reception Centre 5482 Royal Pl NW  
	Rochester MN 55901
GEO:44.0792275;-92.486748
END:VEVENT
END:VCALENDAR