BEGIN:VCALENDAR
VERSION:2.0
PRODID:-//Tukios.com/
BEGIN:VEVENT
UID:4304387b-3fa3-4cf4-bfe2-6dcaccd64b7e@www.ranfranzandvinefh.com
DTSTAMP:20260422T004353Z
DTSTART:20260516T190000Z
DTEND:20260516T200000Z
SUMMARY:Memorial Service
DESCRIPTION:
URL:https://www.ranfranzandvinefh.com/obituaries/kenneth-fjerstad
LOCATION:Ranfranz and Vine Funeral Homes  5421 Royal Place NW  Rochester 
	MN 55901
GEO:44.079111;-92.4881237
END:VEVENT
END:VCALENDAR