BEGIN:VCALENDAR
VERSION:2.0
PRODID:-//Tukios.com/
BEGIN:VEVENT
UID:a9f008ec-0b22-4148-94b3-0a9aefde6231@www.ranfranzandvinefh.com
DTSTAMP:20260422T004028Z
DTSTART:20260516T180000Z
DTEND:20260516T190000Z
SUMMARY:Visitation
DESCRIPTION:
URL:https://www.ranfranzandvinefh.com/obituaries/kenneth-fjerstad
LOCATION:Ranfranz and Vine Funeral Homes  5421 Royal Place NW  Rochester 
	MN 55901
GEO:44.079111;-92.4881237
END:VEVENT
END:VCALENDAR